

BEGIN:VCALENDAR
VERSION:2.0
PRODID:-//Crea-Shakthi - ECPv5.0.3.1//NONSGML v1.0//EN
CALSCALE:GREGORIAN
METHOD:PUBLISH
X-WR-CALNAME:Crea-Shakthi
X-ORIGINAL-URL:https://creashakthi.com
X-WR-CALDESC:Events for Crea-Shakthi
BEGIN:VTIMEZONE
TZID:UTC
BEGIN:STANDARD
TZOFFSETFROM:+0000
TZOFFSETTO:+0000
TZNAME:UTC
DTSTART:20180101T000000
END:STANDARD
END:VTIMEZONE
BEGIN:VEVENT
DTSTART;TZID=UTC:20180304T193000
DTEND;TZID=UTC:20180304T203000
DTSTAMP:20260422T155021
CREATED:20180327T121521Z
LAST-MODIFIED:20180327T134011Z
UID:450-1520191800-1520195400@creashakthi.com
SUMMARY:A Farce and Storytime - 2 Comedy Plays at MYTF VII
DESCRIPTION:Performed by: The Studio – Theatre Club at SASTRA University \nAs Part of MY Theatre Festival Season VII\nIndia’s largest Youth & Campus Theatre Festival\nA Farce: It’s many a man’s dream to have more than one lover. But what if that dream comes true? Well\, you’ll need exceptional skills to deal with tons of confusion\, and of course\, a good friend who might help you in times of crisis.\nStorytime: Unsolicited love advice? No\, thank you! What if the said advice were to come from your parents. Horrifying? Embarrassing?\nPranav doesn’t have a choice but to sit through his parent’s love story as they take him through a trip down memory lane. After all\, who doesn’t like listening to stories? \n
URL:https://creashakthi.com/upcoming-event/a-farce-and-storytime-2-comedy-plays-at-mytf-vii/
LOCATION:Chettinad Hari Shree Vidyalayam – Senior Campus\, 20 Srinivasa Avenue Road\, Raja Annamalai Puram\,\, Chennai\, Tamilnadu\, 600028\, India
ATTACH;FMTTYPE=image/jpeg:https://creashakthi.com/wp-content/uploads/2018/03/28166451_1543433749045369_3363378297484034163_n.jpg
END:VEVENT
END:VCALENDAR