

BEGIN:VCALENDAR
VERSION:2.0
PRODID:-//Crea-Shakthi - ECPv5.0.3.1//NONSGML v1.0//EN
CALSCALE:GREGORIAN
METHOD:PUBLISH
X-WR-CALNAME:Crea-Shakthi
X-ORIGINAL-URL:https://creashakthi.com
X-WR-CALDESC:Events for Crea-Shakthi
BEGIN:VTIMEZONE
TZID:UTC
BEGIN:STANDARD
TZOFFSETFROM:+0000
TZOFFSETTO:+0000
TZNAME:UTC
DTSTART:20180101T000000
END:STANDARD
END:VTIMEZONE
BEGIN:VEVENT
DTSTART;TZID=UTC:20180316T080000
DTEND;TZID=UTC:20180316T170000
DTSTAMP:20260422T155242
CREATED:20180326T103059Z
LAST-MODIFIED:20180327T134455Z
UID:434-1521187200-1521219600@creashakthi.com
SUMMARY:Girish Karnad's Yayati By Jagriti
DESCRIPTION:Yayati\, Girish Karnad’s first play – was written in 1960\, when he was 23 years old – and immediately established his ability to turn an epic mythological story into an exciting dramatic experience. Yayati was an instant success\, staged in Kannada and in many other Indian languages. In this play\, King Yayati’s story from the Mahabharata becomes a roller coaster ride of events\, sparked off by one sexual encounter. When it was written\, strong women characters were not acceptable in traditional Indian theatre and this play has four of them. Four strong women who assert their rights alongside a son who wishes to rebel against the path set out for him and a father willing to sacrifice his son’s youth in his quest for immortality. Set against a background of lust\, jealousy and social prejudice\, six strong characters fight to assert their own rights \n
URL:https://creashakthi.com/upcoming-event/girish-karnads-yayati-by-jagriti/
LOCATION:Rani Seethai Hall\, Rani Seethai Hall 603 Anna Salai\, Chennai\, Tamilnadu\, 600034\, India
ATTACH;FMTTYPE=image/jpeg:https://creashakthi.com/wp-content/uploads/2018/03/29342161_1568523119869765_1073831640356093952_n.jpg
END:VEVENT
END:VCALENDAR