

BEGIN:VCALENDAR
VERSION:2.0
PRODID:-//Crea-Shakthi - ECPv5.0.3.1//NONSGML v1.0//EN
CALSCALE:GREGORIAN
METHOD:PUBLISH
X-WR-CALNAME:Crea-Shakthi
X-ORIGINAL-URL:https://creashakthi.com
X-WR-CALDESC:Events for Crea-Shakthi
BEGIN:VTIMEZONE
TZID:UTC
BEGIN:STANDARD
TZOFFSETFROM:+0000
TZOFFSETTO:+0000
TZNAME:UTC
DTSTART:20180101T000000
END:STANDARD
END:VTIMEZONE
BEGIN:VEVENT
DTSTART;TZID=UTC:20180318T193000
DTEND;TZID=UTC:20180318T210000
DTSTAMP:20260422T165745
CREATED:20180322T114749Z
LAST-MODIFIED:20180327T133217Z
UID:412-1521401400-1521406800@creashakthi.com
SUMMARY:Five Women Wearing The Same Dress
DESCRIPTION:The play is a comedy set at the home of the bride in Knoxville\, Tennessee during the newly married couple’s ostentatious wedding reception. The five bridesmaids have found refuge in the room of Meredith\, the sister of the bride. The women come to realize that despite their differences\, they have more in common with each other than any of them do with the bride. IIT MAdras Drama Club presents Five Women Wearing the same Dress \n
URL:https://creashakthi.com/upcoming-event/five-women-wearing-the-same-dress/
LOCATION:Chettinad Hari Shree Vidyalayam – Senior Campus\, 20 Srinivasa Avenue Road\, Raja Annamalai Puram\,\, Chennai\, Tamilnadu\, 600028\, India
ATTACH;FMTTYPE=image/jpeg:https://creashakthi.com/wp-content/uploads/2018/03/b1.jpg
END:VEVENT
END:VCALENDAR