

BEGIN:VCALENDAR
VERSION:2.0
PRODID:-//Crea-Shakthi - ECPv5.0.3.1//NONSGML v1.0//EN
CALSCALE:GREGORIAN
METHOD:PUBLISH
X-WR-CALNAME:Crea-Shakthi
X-ORIGINAL-URL:https://creashakthi.com
X-WR-CALDESC:Events for Crea-Shakthi
BEGIN:VTIMEZONE
TZID:UTC
BEGIN:STANDARD
TZOFFSETFROM:+0000
TZOFFSETTO:+0000
TZNAME:UTC
DTSTART:20180101T000000
END:STANDARD
END:VTIMEZONE
BEGIN:VEVENT
DTSTART;TZID=UTC:20180506T160000
DTEND;TZID=UTC:20180506T210000
DTSTAMP:20260422T115511
CREATED:20180423T152920Z
LAST-MODIFIED:20180423T152920Z
UID:464-1525622400-1525640400@creashakthi.com
SUMMARY:Dolls at Backyard
DESCRIPTION:What defines the modern Indian woman? “Dolls” delves into personal stories – part real\, part fiction all through women and the sum of their experiences.  \nSometimes we seek way too much inspiration from idols and heroes at a distance\, we forget the everyday challenges\, conflicts women face\, and more importantly\, overcome.  \nIn different styles of storytelling\, the play attempts to weave in the spirit of women – each of their stories\, symbolized by a doll\, that brings forth humour\, pathos\, wit\, passion\, grit and a myriad of emotions which we as a society have been ignorant of. Their stories may not seem special\, but they ring true to the audience\, and we experience it every day – but it’s special to them\, the actors\, as they LIVE it – every day! \nMay 6th 2018\n4&7pm\nPasses INR 250\nhttp://bit.ly/dollsmay6\n16+\n		\n			#gallery-1 {\n				margin: auto;\n			}\n			#gallery-1 .gallery-item {\n				float: left;\n				margin-top: 10px;\n				text-align: center;\n				width: 33%;\n			}\n			#gallery-1 img {\n				border: 2px solid #cfcfcf;\n			}\n			#gallery-1 .gallery-caption {\n				margin-left: 0;\n			}\n			/* see gallery_shortcode() in wp-includes/media.php */\n		\n		\n			\n				\n			\n			\n		\n \n
URL:https://creashakthi.com/upcoming-event/dolls-at-backyard/
LOCATION:Backyard Adyar\, No.53/23 \, 3rd Main Road\, Gandhi Nagar\, Adyar\, Chennai\, India 600 020\, Chennai\, Tamil Nadu\, 600020\, India
ATTACH;FMTTYPE=image/jpeg:https://creashakthi.com/wp-content/uploads/2018/04/Generic-poster_Details-scaled.jpg
ORGANIZER;CN="Crea-Shakthi":MAILTO:creashakthi@gmail.com
END:VEVENT
END:VCALENDAR