

BEGIN:VCALENDAR
VERSION:2.0
PRODID:-//Crea-Shakthi - ECPv5.0.3.1//NONSGML v1.0//EN
CALSCALE:GREGORIAN
METHOD:PUBLISH
X-WR-CALNAME:Crea-Shakthi
X-ORIGINAL-URL:https://creashakthi.com
X-WR-CALDESC:Events for Crea-Shakthi
BEGIN:VTIMEZONE
TZID:UTC
BEGIN:STANDARD
TZOFFSETFROM:+0000
TZOFFSETTO:+0000
TZNAME:UTC
DTSTART:20180101T000000
END:STANDARD
END:VTIMEZONE
BEGIN:VEVENT
DTSTART;TZID=UTC:20180511T200000
DTEND;TZID=UTC:20180512T220000
DTSTAMP:20260422T114725
CREATED:20180423T153708Z
LAST-MODIFIED:20180423T153708Z
UID:471-1526068800-1526162400@creashakthi.com
SUMMARY:Dolls @ Jagriti
DESCRIPTION:What defines the modern Indian woman? “Dolls” delves into personal stories – part real\, part fiction all through women and the sum of their experiences.  \nSometimes we seek way too much inspiration from idols and heroes at a distance\, we forget the everyday challenges\, conflicts women face\, and more importantly\, overcome.  \nIn different styles of storytelling\, the play attempts to weave in the spirit of women – each of their stories\, symbolized by a doll\, that brings forth humour\, pathos\, wit\, passion\, grit and a myriad of emotions which we as a society have been ignorant of. Their stories may not seem special\, but they ring true to the audience\, and we experience it every day – but it’s special to them\, the actors\, as they LIVE it – every day! \nMay 11th 8 pm. May 12th 3 & 6:30 pm\nJagriti theatre Bangalore\nINR 300 passes\n16+\nhttp://bit.ly/dollsjagriti \n
URL:https://creashakthi.com/upcoming-event/dolls-jagriti/
LOCATION:Jagriti\, Whitefield\, Jagriti Renaissance\, Varthur Rd\, Near Adarsh Palm Meadows\, Ramagondanahalli\, Whitefield\, Bengaluru\, Karnataka 560066\, Bengaluru\, Karnataka\, 560066\, India
ATTACH;FMTTYPE=image/jpeg:https://creashakthi.com/wp-content/uploads/2018/04/Generic-poster_Details-scaled.jpg
ORGANIZER;CN="Crea-Shakthi":MAILTO:creashakthi@gmail.com
END:VEVENT
END:VCALENDAR