

BEGIN:VCALENDAR
VERSION:2.0
PRODID:-//Crea-Shakthi - ECPv5.0.3.1//NONSGML v1.0//EN
CALSCALE:GREGORIAN
METHOD:PUBLISH
X-WR-CALNAME:Crea-Shakthi
X-ORIGINAL-URL:https://creashakthi.com
X-WR-CALDESC:Events for Crea-Shakthi
BEGIN:VTIMEZONE
TZID:UTC
BEGIN:STANDARD
TZOFFSETFROM:+0000
TZOFFSETTO:+0000
TZNAME:UTC
DTSTART:20180101T000000
END:STANDARD
END:VTIMEZONE
BEGIN:VEVENT
DTSTART;TZID=UTC:20180701T160000
DTEND;TZID=UTC:20180701T180000
DTSTAMP:20260422T084013
CREATED:20180607T150729Z
LAST-MODIFIED:20180607T150818Z
UID:478-1530460800-1530468000@creashakthi.com
SUMMARY:Women at WAR
DESCRIPTION:Portrayal of women has been closeted throughout our history. They’ve gotten more regressive over the years\, stemming out of personal biases that have systematically taken away from the women the right to make choices. Based on a series of discussions and devising this piece using satire and drama is Women At War \nthe play tells the story of 3 women from Indian freedom struggle who have gone to war juxtaposed with contemporary Indian women and the issues they face. The play focuses on the portrayal of women and using a variety of languages\, comedy & drama looks to acknowledge how regressive our treatment of women has become. \nCREASHAKTHI spotlight Initiative batch of May 2018\nPresents  \nWomen at WAR\nA Devised theatrical performance  \nAge: PG13\nLanguage : Tamil\, English\nDonor passes: INR 150 upto June 25 and then INR 200\nDate & time : 1st July 4&7 pm\nRuntime: 100 mins without intermission.\nVenue: harishree Vidyalayam auditorium \nAbout Spotlight:\nThe show is a culmination of 45 days of workshops and rehearsals as part of Crea-Shakthi’s Spotlight Initiative batch of November-January 2018. The Spotlight Initiative is Crea-Shakthi’s experimental & initiation wing open to 15 years upwards – committed to taking those interested & committed yet with no formal background in theatre into the Crea-Shakthi team.  \nAbout Creashakti:\nFounded in March 2012\, Creashakthi started out as a ‘Fund’ by four partners who’s passion for the craft prompted them to grow theatre in the city. In less than three years\, Creashakthi has grown into nine partner strong firm\, an institution that provides a platform for theatre\, offering training and theatre-based learning solutions\, curating arguably the largest youth theatre festival in the country\, a well-established stand-up comedy wing and offering full-time employment to professionals. Crea-Shakthi aims to turn itself into a community theatre group but by bridging the gap between professional and amateur and bring about industry standards for live performances in Chennai & other cities as well. \n
URL:https://creashakthi.com/upcoming-event/women-at-war/
LOCATION:Chettinad Hari Shree Vidyalayam – Senior Campus\, 20 Srinivasa Avenue Road\, Raja Annamalai Puram\,\, Chennai\, Tamilnadu\, 600028\, India
ATTACH;FMTTYPE=image/jpeg:https://creashakthi.com/wp-content/uploads/2018/06/IMG_20180606_103626-scaled.jpg
ORGANIZER;CN="Crea-Shakthi":MAILTO:creashakthi@gmail.com
END:VEVENT
END:VCALENDAR